BEGIN:VCALENDAR
VERSION:2.0
BEGIN:VEVENT
URL:https://hobartunibar.oztix.com.au/outlet/event/133cc023-962d-45cc-a53e-89c6024ed7c1
DTSTART:20210626T103000Z
DTEND:20210626T103000Z
SUMMARY:SAN CISCO 'Flaws' Tour
DESCRIPTION:Event details: https://hobartunibar.oztix.com.au/outlet/event/133cc023-962d-45cc-a53e-89c6024ed7c1
LOCATION:Uni Bar Hobart (Sandy Bay, TAS)
END:VEVENT
END:VCALENDAR