BEGIN:VCALENDAR
VERSION:2.0
BEGIN:VEVENT
URL:https://hobartunibar.oztix.com.au/outlet/event/16a121a3-3b75-49b4-83a3-052a783a4d50
DTSTART:20210424T083000Z
DTEND:20210424T083000Z
SUMMARY:Alex Williamson - Oi Mate!
DESCRIPTION:Event details: https://hobartunibar.oztix.com.au/outlet/event/16a121a3-3b75-49b4-83a3-052a783a4d50
LOCATION:Uni Bar Hobart (Sandy Bay, TAS)
END:VEVENT
END:VCALENDAR