BEGIN:VCALENDAR
VERSION:2.0
BEGIN:VEVENT
URL:https://hobartunibar.oztix.com.au/outlet/event/18d910a2-7316-4df4-8fc5-0e3f46a183b6
DTSTART:20210528T100000Z
DTEND:20210528T100000Z
SUMMARY:The Chats - High Risk Behaviour Tour
DESCRIPTION:Event details: https://hobartunibar.oztix.com.au/outlet/event/18d910a2-7316-4df4-8fc5-0e3f46a183b6
LOCATION:Uni Bar Hobart (Sandy Bay, TAS)
END:VEVENT
END:VCALENDAR