BEGIN:VCALENDAR
VERSION:2.0
BEGIN:VEVENT
URL:https://hobartunibar.oztix.com.au/outlet/event/195e4ad2-2644-449b-b47f-91e5d06075e9
DTSTART:20210514T100000Z
DTEND:20210514T100000Z
SUMMARY:Northeast Party House - Shelf Life Tour
DESCRIPTION:Event details: https://hobartunibar.oztix.com.au/outlet/event/195e4ad2-2644-449b-b47f-91e5d06075e9
LOCATION:Uni Bar Hobart (Sandy Bay, TAS)
END:VEVENT
END:VCALENDAR