BEGIN:VCALENDAR
VERSION:2.0
BEGIN:VEVENT
URL:https://hobartunibar.oztix.com.au/outlet/event/694f6473-8643-4ed7-8447-c6de0d340f0c
DTSTART:20211008T050000Z
DTEND:20211008T050000Z
SUMMARY:Fiona Horne
DESCRIPTION:Event details: https://hobartunibar.oztix.com.au/outlet/event/694f6473-8643-4ed7-8447-c6de0d340f0c
LOCATION:Uni Bar Hobart (Sandy Bay, TAS)
END:VEVENT
END:VCALENDAR